BEGIN:VCALENDAR
VERSION:2.0
PRODID:-//Douglas County Master Gardener™ Association - ECPv6.15.20//NONSGML v1.0//EN
CALSCALE:GREGORIAN
METHOD:PUBLISH
X-WR-CALNAME:Douglas County Master Gardener™ Association
X-ORIGINAL-URL:https://www.douglascountymg.org
X-WR-CALDESC:Events for Douglas County Master Gardener™ Association
REFRESH-INTERVAL;VALUE=DURATION:PT1H
X-Robots-Tag:noindex
X-PUBLISHED-TTL:PT1H
BEGIN:VTIMEZONE
TZID:America/Los_Angeles
BEGIN:DAYLIGHT
TZOFFSETFROM:-0800
TZOFFSETTO:-0700
TZNAME:PDT
DTSTART:20240310T100000
END:DAYLIGHT
BEGIN:STANDARD
TZOFFSETFROM:-0700
TZOFFSETTO:-0800
TZNAME:PST
DTSTART:20241103T090000
END:STANDARD
BEGIN:DAYLIGHT
TZOFFSETFROM:-0800
TZOFFSETTO:-0700
TZNAME:PDT
DTSTART:20250309T100000
END:DAYLIGHT
BEGIN:STANDARD
TZOFFSETFROM:-0700
TZOFFSETTO:-0800
TZNAME:PST
DTSTART:20251102T090000
END:STANDARD
BEGIN:DAYLIGHT
TZOFFSETFROM:-0800
TZOFFSETTO:-0700
TZNAME:PDT
DTSTART:20260308T100000
END:DAYLIGHT
BEGIN:STANDARD
TZOFFSETFROM:-0700
TZOFFSETTO:-0800
TZNAME:PST
DTSTART:20261101T090000
END:STANDARD
END:VTIMEZONE
BEGIN:VEVENT
DTSTART;TZID=America/Los_Angeles:20251008T100000
DTEND;TZID=America/Los_Angeles:20251008T120000
DTSTAMP:20260421T175531
CREATED:20250210T210316Z
LAST-MODIFIED:20250210T210921Z
UID:10000161-1759917600-1759924800@www.douglascountymg.org
SUMMARY:Monthly Executive Board Meeting
DESCRIPTION: 
URL:https://www.douglascountymg.org/event/monthly-executive-board-meeting/2025-10-08/
LOCATION:Extension Office\, 1134 SE Douglas Ave\, Roseburg\, OR\, 97470\, United States
CATEGORIES:Meetings
END:VEVENT
BEGIN:VEVENT
DTSTART;TZID=America/Los_Angeles:20251008T130000
DTEND;TZID=America/Los_Angeles:20251008T150000
DTSTAMP:20260421T175531
CREATED:20250926T160840Z
LAST-MODIFIED:20250926T160915Z
UID:10000603-1759928400-1759935600@www.douglascountymg.org
SUMMARY:Continuing Ed: Winter Cover Cropping
DESCRIPTION:Learn all about winter cover cropping at this hands on workshop worth 2 hours of continuing education! Please register through the ideal-logic system at https://apps.ideal-logic.com/osuextension?key=F3T9-25VWY_K9KH-5PTF_1eaaeebeeeb1
URL:https://www.douglascountymg.org/event/continuing-ed-winter-cover-cropping/
LOCATION:The Discovery Garden\, 238 River Forks Park Road\, Roseburg\, OR\, 97471\, United States
CATEGORIES:Continuing Education,Volunteering Opportunities
END:VEVENT
END:VCALENDAR