BEGIN:VCALENDAR
VERSION:2.0
PRODID:-//Douglas County Master Gardener™ Association - ECPv6.15.20//NONSGML v1.0//EN
CALSCALE:GREGORIAN
METHOD:PUBLISH
X-WR-CALNAME:Douglas County Master Gardener™ Association
X-ORIGINAL-URL:https://www.douglascountymg.org
X-WR-CALDESC:Events for Douglas County Master Gardener™ Association
REFRESH-INTERVAL;VALUE=DURATION:PT1H
X-Robots-Tag:noindex
X-PUBLISHED-TTL:PT1H
BEGIN:VTIMEZONE
TZID:America/Los_Angeles
BEGIN:DAYLIGHT
TZOFFSETFROM:-0800
TZOFFSETTO:-0700
TZNAME:PDT
DTSTART:20240310T100000
END:DAYLIGHT
BEGIN:STANDARD
TZOFFSETFROM:-0700
TZOFFSETTO:-0800
TZNAME:PST
DTSTART:20241103T090000
END:STANDARD
BEGIN:DAYLIGHT
TZOFFSETFROM:-0800
TZOFFSETTO:-0700
TZNAME:PDT
DTSTART:20250309T100000
END:DAYLIGHT
BEGIN:STANDARD
TZOFFSETFROM:-0700
TZOFFSETTO:-0800
TZNAME:PST
DTSTART:20251102T090000
END:STANDARD
BEGIN:DAYLIGHT
TZOFFSETFROM:-0800
TZOFFSETTO:-0700
TZNAME:PDT
DTSTART:20260308T100000
END:DAYLIGHT
BEGIN:STANDARD
TZOFFSETFROM:-0700
TZOFFSETTO:-0800
TZNAME:PST
DTSTART:20261101T090000
END:STANDARD
END:VTIMEZONE
BEGIN:VEVENT
DTSTART;TZID=America/Los_Angeles:20250902T083000
DTEND;TZID=America/Los_Angeles:20250902T160000
DTSTAMP:20260421T234500
CREATED:20250822T172113Z
LAST-MODIFIED:20250822T172207Z
UID:10000452-1756801800-1756828800@www.douglascountymg.org
SUMMARY:Fall Training Course 2025
DESCRIPTION:The Master Gardener fall training course 2025. \nSessions at the Extension auditorium are open for veteran MG’s to get recertification hours \nAM – Intro/Integrated Pest Management with Logan Bennett (Extension auditorium) \nPM – Ag Learning Center Tour with MGs (ALC) \n 
URL:https://www.douglascountymg.org/event/fall-training-course-2025-2-2/
LOCATION:Extension Office\, 1134 SE Douglas Ave\, Roseburg\, OR\, 97470\, United States
CATEGORIES:Continuing Education,Training Course
END:VEVENT
BEGIN:VEVENT
DTSTART;TZID=America/Los_Angeles:20250909T083000
DTEND;TZID=America/Los_Angeles:20250909T160000
DTSTAMP:20260421T234500
CREATED:20250822T172730Z
LAST-MODIFIED:20250822T174631Z
UID:10000453-1757406600-1757433600@www.douglascountymg.org
SUMMARY:Fall Training Course 2025 - Day 2
DESCRIPTION:The Master Gardener fall training course 2025. \nSessions are open for veteran MG’s to get recertification hours \nAM Climate Science with Greg Jones (Extension auditorium) \nPM Botany with OMGA President Chris Rusch (Extension auditorium)
URL:https://www.douglascountymg.org/event/fall-training-course-2025-2-3/
LOCATION:Extension Office\, 1134 SE Douglas Ave\, Roseburg\, OR\, 97470\, United States
CATEGORIES:Continuing Education,Training Course
END:VEVENT
BEGIN:VEVENT
DTSTART;TZID=America/Los_Angeles:20250916T083000
DTEND;TZID=America/Los_Angeles:20250916T160000
DTSTAMP:20260421T234500
CREATED:20250822T172912Z
LAST-MODIFIED:20250822T174056Z
UID:10000454-1758011400-1758038400@www.douglascountymg.org
SUMMARY:Fall Training Course 2025 - Day 3
DESCRIPTION:The Master Gardener fall training course 2025. \nSessions are open for veteran MG’s to get recertification hours \nAM Plant Pathology with Cindy Ocamb\, OSU (Extension auditorium) \nPM Soils with Linda Brewer\, OSU (Extension auditorium)
URL:https://www.douglascountymg.org/event/fall-training-course-2025-2-4/
LOCATION:Extension Office\, 1134 SE Douglas Ave\, Roseburg\, OR\, 97470\, United States
CATEGORIES:Continuing Education,Training Course
END:VEVENT
BEGIN:VEVENT
DTSTART;TZID=America/Los_Angeles:20250923T083000
DTEND;TZID=America/Los_Angeles:20250923T160000
DTSTAMP:20260421T234500
CREATED:20250822T173144Z
LAST-MODIFIED:20250822T174009Z
UID:10000455-1758616200-1758643200@www.douglascountymg.org
SUMMARY:Fall Training Course 2025 - Day 4
DESCRIPTION:The Master Gardener fall training course 2025. \nSessions are open for veteran MG’s to get recertification hours \nAM Berries and tree fruits with Logan Bennett/Grace Florjancic (Extension auditorium) \nPM Invasive Weeds with Tracy Pope\, Douglas County Dept. of Natural Resources (Extension auditorium)
URL:https://www.douglascountymg.org/event/fall-training-course-2025-2-5/
LOCATION:Extension Office\, 1134 SE Douglas Ave\, Roseburg\, OR\, 97470\, United States
CATEGORIES:Continuing Education,Training Course
END:VEVENT
BEGIN:VEVENT
DTSTART;TZID=America/Los_Angeles:20250930T083000
DTEND;TZID=America/Los_Angeles:20250930T160000
DTSTAMP:20260421T234500
CREATED:20250822T173246Z
LAST-MODIFIED:20250822T174550Z
UID:10000456-1759221000-1759248000@www.douglascountymg.org
SUMMARY:Fall Training Course 2025 - Day 5
DESCRIPTION:The Master Gardener fall training course 2025. \nSessions are open for veteran MG’s to get recertification hours \nAM Flowers with MG Jack Finney (Extension auditorium) \nPM Plant ID with OMGA President Chris Rusch (Extension auditorium)
URL:https://www.douglascountymg.org/event/fall-training-course-2025-2-6/
LOCATION:Extension Office\, 1134 SE Douglas Ave\, Roseburg\, OR\, 97470\, United States
CATEGORIES:Continuing Education,Training Course
END:VEVENT
END:VCALENDAR