BEGIN:VCALENDAR
VERSION:2.0
PRODID:-//Douglas County Master Gardener™ Association - ECPv6.15.20//NONSGML v1.0//EN
CALSCALE:GREGORIAN
METHOD:PUBLISH
X-WR-CALNAME:Douglas County Master Gardener™ Association
X-ORIGINAL-URL:https://www.douglascountymg.org
X-WR-CALDESC:Events for Douglas County Master Gardener™ Association
REFRESH-INTERVAL;VALUE=DURATION:PT1H
X-Robots-Tag:noindex
X-PUBLISHED-TTL:PT1H
BEGIN:VTIMEZONE
TZID:America/Los_Angeles
BEGIN:DAYLIGHT
TZOFFSETFROM:-0800
TZOFFSETTO:-0700
TZNAME:PDT
DTSTART:20240310T100000
END:DAYLIGHT
BEGIN:STANDARD
TZOFFSETFROM:-0700
TZOFFSETTO:-0800
TZNAME:PST
DTSTART:20241103T090000
END:STANDARD
BEGIN:DAYLIGHT
TZOFFSETFROM:-0800
TZOFFSETTO:-0700
TZNAME:PDT
DTSTART:20250309T100000
END:DAYLIGHT
BEGIN:STANDARD
TZOFFSETFROM:-0700
TZOFFSETTO:-0800
TZNAME:PST
DTSTART:20251102T090000
END:STANDARD
BEGIN:DAYLIGHT
TZOFFSETFROM:-0800
TZOFFSETTO:-0700
TZNAME:PDT
DTSTART:20260308T100000
END:DAYLIGHT
BEGIN:STANDARD
TZOFFSETFROM:-0700
TZOFFSETTO:-0800
TZNAME:PST
DTSTART:20261101T090000
END:STANDARD
END:VTIMEZONE
BEGIN:VEVENT
DTSTART;TZID=America/Los_Angeles:20250930T083000
DTEND;TZID=America/Los_Angeles:20250930T160000
DTSTAMP:20260421T190455
CREATED:20250822T173246Z
LAST-MODIFIED:20250822T174550Z
UID:10000456-1759221000-1759248000@www.douglascountymg.org
SUMMARY:Fall Training Course 2025 - Day 5
DESCRIPTION:The Master Gardener fall training course 2025. \nSessions are open for veteran MG’s to get recertification hours \nAM Flowers with MG Jack Finney (Extension auditorium) \nPM Plant ID with OMGA President Chris Rusch (Extension auditorium)
URL:https://www.douglascountymg.org/event/fall-training-course-2025-2-6/
LOCATION:Extension Office\, 1134 SE Douglas Ave\, Roseburg\, OR\, 97470\, United States
CATEGORIES:Continuing Education,Training Course
END:VEVENT
END:VCALENDAR